BEGIN:VCALENDAR
METHOD:PUBLISH
PRODID:-//Weblication CMS
VERSION:2.0
BEGIN:VEVENT
SUMMARY:Weihnachtsmarkt
DTSTART:20141130T010000
DTEND:19700101T010000
DESCRIPTION:
LOCATION:
UID:https://www.muehlacker.de/kultur/veranstaltungen/archiv/2014/3423_Weihnachtsmarkt.php
URL:https://www.muehlacker.de/kultur/veranstaltungen/archiv/2014/3423_Weihnachtsmarkt.php
END:VEVENT
END:VCALENDAR