BEGIN:VCALENDAR
METHOD:PUBLISH
PRODID:-//Weblication CMS
VERSION:2.0
BEGIN:VEVENT
SUMMARY:Maibaumfest Enzberg
DTSTART:20140501T020000
DTEND:19700101T010000
DESCRIPTION:Maibaumfest Enzberg
LOCATION:
UID:https://www.muehlacker.de/kultur/veranstaltungen/archiv/2014/2554_Maibaumfest-Enzberg.php
URL:https://www.muehlacker.de/kultur/veranstaltungen/archiv/2014/2554_Maibaumfest-Enzberg.php
END:VEVENT
END:VCALENDAR