BEGIN:VCALENDAR
METHOD:PUBLISH
PRODID:-//Weblication CMS
VERSION:2.0
BEGIN:VEVENT
SUMMARY:Hocketse
DTSTART:20130920T020000
DTEND:19700101T010000
DESCRIPTION:
LOCATION:
UID:https://www.muehlacker.de/kultur/veranstaltungen/archiv/2013/2307_Hocketse.php
URL:https://www.muehlacker.de/kultur/veranstaltungen/archiv/2013/2307_Hocketse.php
END:VEVENT
END:VCALENDAR