BEGIN:VCALENDAR
METHOD:PUBLISH
PRODID:-//Weblication CMS
VERSION:2.0
BEGIN:VEVENT
SUMMARY:6. Enzberger Dorffest
DTSTART:20130706T173000
DTEND:19700101T010000
DESCRIPTION:Um 15.30 Uhr Eröffnung mit Oberbürgermeister Frank Schneider und Ehrenbürger Gerhard Knapp, anschließend Unterhaltung und Musik auf der Festbühne.
LOCATION:
UID:https://www.muehlacker.de/kultur/veranstaltungen/archiv/2013/2175_6.-Enzberger-Dorffest.php
URL:https://www.muehlacker.de/kultur/veranstaltungen/archiv/2013/2175_6.-Enzberger-Dorffest.php
END:VEVENT
END:VCALENDAR