BEGIN:VCALENDAR
METHOD:PUBLISH
PRODID:-//Weblication CMS
VERSION:2.0
BEGIN:VEVENT
SUMMARY:Elmeter-Turnier
DTSTART:20130531T020000
DTEND:19700101T010000
DESCRIPTION:
LOCATION:
UID:https://www.muehlacker.de/kultur/veranstaltungen/archiv/2013/2118_Elmeter-Turnier.php
URL:https://www.muehlacker.de/kultur/veranstaltungen/archiv/2013/2118_Elmeter-Turnier.php
END:VEVENT
END:VCALENDAR