BEGIN:VCALENDAR
METHOD:PUBLISH
PRODID:-//Weblication CMS
VERSION:2.0
BEGIN:VEVENT
SUMMARY:Altersgruppe (MA)
DTSTART:20120611T213000
DTEND:19700101T010000
DESCRIPTION:
LOCATION:
UID:https://www.muehlacker.de/kultur/veranstaltungen/archiv/2012/1672_Altersgruppe-MA.php
URL:https://www.muehlacker.de/kultur/veranstaltungen/archiv/2012/1672_Altersgruppe-MA.php
END:VEVENT
END:VCALENDAR