BEGIN:VCALENDAR
METHOD:PUBLISH
PRODID:-//Weblication CMS
VERSION:2.0
BEGIN:VEVENT
SUMMARY:Ausstellung 125 Jahre TV Mühlacker e.V.
DTSTART:20120608T020000
DTEND:19700101T010000
DESCRIPTION:Bilder-Ausstellung
LOCATION:
UID:https://www.muehlacker.de/kultur/veranstaltungen/archiv/2012/1601_Ausstellung-125-Jahre-TV-Muehlacker-e.V.php
URL:https://www.muehlacker.de/kultur/veranstaltungen/archiv/2012/1601_Ausstellung-125-Jahre-TV-Muehlacker-e.V.php
END:VEVENT
END:VCALENDAR