BEGIN:VCALENDAR
METHOD:PUBLISH
PRODID:-//Weblication CMS
VERSION:2.0
BEGIN:VEVENT
SUMMARY:Kreuzweg - Orgelkonzert zur Passionszeit
DTSTART:20120331T190000
DTEND:19700101T010000
DESCRIPTION:Stationen aus Le Chemin de la Croix (Kreuzweg), op.29 von Marcel Dupré (1883-1971) geistliche Abendmusik, "Kreuzweg" mit Burkhard Pflomm, Orgel
LOCATION:
UID:https://www.muehlacker.de/kultur/veranstaltungen/archiv/2012/1548_Kreuzweg-Orgelkonzert-zur-Passionszeit.php
URL:https://www.muehlacker.de/kultur/veranstaltungen/archiv/2012/1548_Kreuzweg-Orgelkonzert-zur-Passionszeit.php
END:VEVENT
END:VCALENDAR