BEGIN:VCALENDAR
METHOD:PUBLISH
PRODID:-//Weblication CMS
VERSION:2.0
BEGIN:VEVENT
SUMMARY:Messe Mühlacker 2012
DTSTART:20120429T020000
DTEND:19700101T010000
DESCRIPTION:
LOCATION:
UID:https://www.muehlacker.de/kultur/veranstaltungen/archiv/2012/1485_Messe-Muehlacker-2012.php
URL:https://www.muehlacker.de/kultur/veranstaltungen/archiv/2012/1485_Messe-Muehlacker-2012.php
END:VEVENT
END:VCALENDAR