BEGIN:VCALENDAR
METHOD:PUBLISH
PRODID:-//Weblication CMS
VERSION:2.0
BEGIN:VEVENT
SUMMARY:Kirchen-Cafè St.-Andreas-Gemeindehaus
DTSTART:20120422T163000
DTEND:19700101T010000
DESCRIPTION:Herzliche Einladung zum gemütlichen Beisammensein im St.-Andreas-Gemeindehaus bei Kaffee und Kuchen. Die Kuchen werden von den Eltern der Konfirmanden gespendet.
LOCATION:
UID:https://www.muehlacker.de/kultur/veranstaltungen/archiv/2012/1469_Kirchen-Caf-St.-Andreas-Gemeindehaus.php
URL:https://www.muehlacker.de/kultur/veranstaltungen/archiv/2012/1469_Kirchen-Caf-St.-Andreas-Gemeindehaus.php
END:VEVENT
END:VCALENDAR