BEGIN:VCALENDAR
METHOD:PUBLISH
PRODID:-//Weblication CMS
VERSION:2.0
BEGIN:VEVENT
SUMMARY:Jahresfeier Schw. Albverein Enzberg
DTSTART:20120114T190000
DTEND:19700101T010000
DESCRIPTION:
LOCATION:
UID:https://www.muehlacker.de/kultur/veranstaltungen/archiv/2012/1238_Jahresfeier-Schw.-Albverein-Enzberg.php
URL:https://www.muehlacker.de/kultur/veranstaltungen/archiv/2012/1238_Jahresfeier-Schw.-Albverein-Enzberg.php
END:VEVENT
END:VCALENDAR