BEGIN:VCALENDAR
METHOD:PUBLISH
PRODID:-//Weblication CMS
VERSION:2.0
BEGIN:VEVENT
SUMMARY:Fischessen der KLTZV Großglattbach
DTSTART:20110422T020000
DTEND:19700101T010000
DESCRIPTION:
LOCATION:
UID:https://www.muehlacker.de/kultur/veranstaltungen/archiv/2011/1668_Fischessen-der-KLTZV-Grossglattbach.php
URL:https://www.muehlacker.de/kultur/veranstaltungen/archiv/2011/1668_Fischessen-der-KLTZV-Grossglattbach.php
END:VEVENT
END:VCALENDAR