BEGIN:VCALENDAR
METHOD:PUBLISH
PRODID:-//Weblication CMS
VERSION:2.0
BEGIN:VEVENT
SUMMARY:Mitglieder-Ehrung des TV Mühlacker
DTSTART:20110317T190000
DTEND:19700101T010000
DESCRIPTION:
LOCATION:
UID:https://www.muehlacker.de/kultur/veranstaltungen/archiv/2011/1551_Mitglieder-Ehrung-des-TV-Muehlacker.php
URL:https://www.muehlacker.de/kultur/veranstaltungen/archiv/2011/1551_Mitglieder-Ehrung-des-TV-Muehlacker.php
END:VEVENT
END:VCALENDAR