BEGIN:VCALENDAR
METHOD:PUBLISH
PRODID:-//Weblication CMS
VERSION:2.0
BEGIN:VEVENT
SUMMARY:Flohmarkt für Jedermann
DTSTART:20111210T070000
DTEND:19700101T010000
DESCRIPTION:Gut besuchter Flohmarkt in Mühlacker, direkt am Busbahnhof. Der laufende Meter Trödel kostet 7,00 €, Neuware 8,00 €. Das Auto kann direkt am Stand abgestellt werden. Aufbau ab 6.00 Uhr - Bitte den Platzanweiser beachten. Vom Veranstalter wird ein Imbiß betrieben, hier können Sie sich mit leckeren Kuchen und Herzhaftem stärken.  Eintrittspreis: Trödel 7,00 €, Neuware 8,00 €.
LOCATION:
UID:https://www.muehlacker.de/kultur/veranstaltungen/archiv/2011/1431_Flohmarkt-fuer-Jedermann.php
URL:https://www.muehlacker.de/kultur/veranstaltungen/archiv/2011/1431_Flohmarkt-fuer-Jedermann.php
END:VEVENT
END:VCALENDAR