BEGIN:VCALENDAR
METHOD:PUBLISH
PRODID:-//Weblication CMS
VERSION:2.0
BEGIN:VEVENT
SUMMARY:Sportfest
DTSTART:20110725T020000
DTEND:19700101T010000
DESCRIPTION:
LOCATION:
UID:https://www.muehlacker.de/kultur/veranstaltungen/archiv/2011/1422_Sportfest.php
URL:https://www.muehlacker.de/kultur/veranstaltungen/archiv/2011/1422_Sportfest.php
END:VEVENT
END:VCALENDAR