BEGIN:VCALENDAR
METHOD:PUBLISH
PRODID:-//Weblication CMS
VERSION:2.0
BEGIN:VEVENT
SUMMARY:Zeig mir wer deine Stadt ist!
DTSTART:20110921T160000
DTEND:19700101T010000
DESCRIPTION:Die Ortsgruppe der Alevitischen Gemeinde in Mühlacker veranstaltet in Zusammenarbeit mit der Stadt Mühlacker am 21. und 24. September das Projekt "Zeig mir wer deine Stadt ist!". Dieses Projekt richtet sich an alle Einwohner Mühlackers mit Migrationshintergrund. Das Projekt erfolgt im Rahmen des Programms "Wir sind dabei - Integration durch soziales Engagement" der Baden-Württemberg Stiftung. Eine Teilnahme ist nur mit vorheriger Anmeldung unter 0157/38917409 oder per E-Mail unter makm-genclik-kolu@hotmail.de möglich. Anmeldeschluss ist der 16. September!
LOCATION:
UID:https://www.muehlacker.de/kultur/veranstaltungen/archiv/2011/1319_Zeig-mir-wer-deine-Stadt-ist.php
URL:https://www.muehlacker.de/kultur/veranstaltungen/archiv/2011/1319_Zeig-mir-wer-deine-Stadt-ist.php
END:VEVENT
END:VCALENDAR