BEGIN:VCALENDAR
METHOD:PUBLISH
PRODID:-//Weblication CMS
VERSION:2.0
BEGIN:VEVENT
SUMMARY:Hermann-Lenz-Abend
DTSTART:20111005T213000
DTEND:19700101T010000
DESCRIPTION:Fremd in der Welt, doch Wurzeln in Dürrmenz - der Stuttgarter Schriftsteller Hermann Lenz (1912-1998). Wir gehen kurz zum Familiengrab der Familie Lenz - Johann Ludwig Lenz (1757-1827) war der letzte Dürrmenzer Dekan - hören dann im Gemeindehaus einen Vortrag über dessen Ur-Urenkel Hermann Lenz, probieren ein wenig regionale Weine, dazu gibt es Brot und Käse und hören Musik für Flöte und Klavier. Ein vergnüglicher Abend mit dem Kenner von Literatur, Gedichten und Wein, Bernd Möbs aus Stuttgart.  Eintritt: 10,-- €
LOCATION:
UID:https://www.muehlacker.de/kultur/veranstaltungen/archiv/2011/1154_Hermann-Lenz-Abend.php
URL:https://www.muehlacker.de/kultur/veranstaltungen/archiv/2011/1154_Hermann-Lenz-Abend.php
END:VEVENT
END:VCALENDAR