BEGIN:VCALENDAR
METHOD:PUBLISH
PRODID:-//Weblication CMS
VERSION:2.0
BEGIN:VEVENT
SUMMARY:Ausbildungsdienst (LI)
DTSTART:20110606T213000
DTEND:19700101T010000
DESCRIPTION:Lienzingen
LOCATION:
UID:https://www.muehlacker.de/kultur/veranstaltungen/archiv/2011/1091_Ausbildungsdienst-LI.php
URL:https://www.muehlacker.de/kultur/veranstaltungen/archiv/2011/1091_Ausbildungsdienst-LI.php
END:VEVENT
END:VCALENDAR