BEGIN:VCALENDAR
METHOD:PUBLISH
PRODID:-//Weblication CMS
VERSION:2.0
BEGIN:VEVENT
SUMMARY:9. Senderstädter 24-Stunden-Schwimmen
DTSTART:20100508T020000
DTEND:19700101T010000
DESCRIPTION:Das Senderstädter 24-Stunden-Schwimmen ist eine Veranstaltung für Jedermann. Ziel ist es in 24 Stunden so viele Bahnen wie möglich für sich oder/und sein Team zu schwimmen. Eintrittspreis: 6,-- Euro bei Abholung der Startunterlagen - Voranmeldungen sind im Hallenbad oder im Internet möglich und verkürzen die Wartezeit erheblich.
LOCATION:
UID:https://www.muehlacker.de/kultur/veranstaltungen/archiv/2010/505_9.-Senderstaedter-24-Stunden-Schwimmen.php
URL:https://www.muehlacker.de/kultur/veranstaltungen/archiv/2010/505_9.-Senderstaedter-24-Stunden-Schwimmen.php
END:VEVENT
END:VCALENDAR