BEGIN:VCALENDAR
METHOD:PUBLISH
PRODID:-//Weblication CMS
VERSION:2.0
BEGIN:VEVENT
SUMMARY:HAV-Mitgliederversammlung mit Vorstandswahl
DTSTART:20100324T203000
DTEND:19700101T010000
DESCRIPTION:Jahres- und Kassenbericht, Vorstandswahlen
LOCATION:
UID:https://www.muehlacker.de/kultur/veranstaltungen/archiv/2010/1216_HAV-Mitgliederversammlung-mit-Vorstandswahl.php
URL:https://www.muehlacker.de/kultur/veranstaltungen/archiv/2010/1216_HAV-Mitgliederversammlung-mit-Vorstandswahl.php
END:VEVENT
END:VCALENDAR