BEGIN:VCALENDAR
METHOD:PUBLISH
PRODID:-//Weblication CMS
VERSION:2.0
BEGIN:VEVENT
SUMMARY:Ausschuß Sitzung (LI)
DTSTART:20100303T200000
DTEND:19700101T010000
DESCRIPTION:Lienzingen
LOCATION:
UID:https://www.muehlacker.de/kultur/veranstaltungen/archiv/2010/1179_Ausschuss-Sitzung-LI.php
URL:https://www.muehlacker.de/kultur/veranstaltungen/archiv/2010/1179_Ausschuss-Sitzung-LI.php
END:VEVENT
END:VCALENDAR