BEGIN:VCALENDAR
METHOD:PUBLISH
PRODID:-//Weblication CMS
VERSION:2.0
BEGIN:VEVENT
SUMMARY:Kurt-Hoffmann Junioren-Fußballturnier
DTSTART:20100206T010000
DTEND:19700101T010000
DESCRIPTION:Juniorenfußball mit D-, E- und F-Junioren
LOCATION:
UID:https://www.muehlacker.de/kultur/veranstaltungen/archiv/2010/1152_Kurt-Hoffmann-Junioren-Fussballturnier.php
URL:https://www.muehlacker.de/kultur/veranstaltungen/archiv/2010/1152_Kurt-Hoffmann-Junioren-Fussballturnier.php
END:VEVENT
END:VCALENDAR