BEGIN:VCALENDAR
METHOD:PUBLISH
PRODID:-//Weblication CMS
VERSION:2.0
BEGIN:VEVENT
SUMMARY:Konzert zum neuen Jahr
DTSTART:20100106T180000
DTEND:19700101T010000
DESCRIPTION:Mit Empfang der Stadt Mühlacker. Es spielt der Musikverein Enzberg e.V.
LOCATION:
UID:https://www.muehlacker.de/kultur/veranstaltungen/archiv/2010/1143_Konzert-zum-neuen-Jahr.php
URL:https://www.muehlacker.de/kultur/veranstaltungen/archiv/2010/1143_Konzert-zum-neuen-Jahr.php
END:VEVENT
END:VCALENDAR