BEGIN:VCALENDAR
METHOD:PUBLISH
PRODID:-//Weblication CMS
VERSION:2.0
BEGIN:VEVENT
SUMMARY:Ausbildungsdienst Atemschutz(Mh)
DTSTART:20100319T210000
DTEND:19700101T010000
DESCRIPTION:Mühlhausen
LOCATION:
UID:https://www.muehlacker.de/kultur/veranstaltungen/archiv/2010/1133_Ausbildungsdienst-Atemschutz-Mh.php
URL:https://www.muehlacker.de/kultur/veranstaltungen/archiv/2010/1133_Ausbildungsdienst-Atemschutz-Mh.php
END:VEVENT
END:VCALENDAR