BEGIN:VCALENDAR
METHOD:PUBLISH
PRODID:-//Weblication CMS
VERSION:2.0
BEGIN:VEVENT
SUMMARY:Ausbildungsdienst Gesamtwehr(Mh)
DTSTART:20100305T200000
DTEND:19700101T010000
DESCRIPTION:Mühlhausen
LOCATION:
UID:https://www.muehlacker.de/kultur/veranstaltungen/archiv/2010/1124_Ausbildungsdienst-Gesamtwehr-Mh.php
URL:https://www.muehlacker.de/kultur/veranstaltungen/archiv/2010/1124_Ausbildungsdienst-Gesamtwehr-Mh.php
END:VEVENT
END:VCALENDAR