BEGIN:VCALENDAR
METHOD:PUBLISH
PRODID:-//Weblication CMS
VERSION:2.0
BEGIN:VEVENT
SUMMARY:Adventsfeier mit Ehrungen
DTSTART:20091215T143000
DTEND:19700101T010000
DESCRIPTION:
LOCATION:
UID:https://www.muehlacker.de/kultur/veranstaltungen/archiv/2009/63_Adventsfeier-mit-Ehrungen.php
URL:https://www.muehlacker.de/kultur/veranstaltungen/archiv/2009/63_Adventsfeier-mit-Ehrungen.php
END:VEVENT
END:VCALENDAR