BEGIN:VCALENDAR
METHOD:PUBLISH
PRODID:-//Weblication CMS
VERSION:2.0
BEGIN:VEVENT
SUMMARY:Halloween-Party
DTSTART:20091031T000000
DTEND:19700101T010000
DESCRIPTION:
LOCATION:
UID:https://www.muehlacker.de/kultur/veranstaltungen/archiv/2009/22_Halloween-Party.php
URL:https://www.muehlacker.de/kultur/veranstaltungen/archiv/2009/22_Halloween-Party.php
END:VEVENT
END:VCALENDAR