BEGIN:VCALENDAR
METHOD:PUBLISH
PRODID:-//Weblication CMS
VERSION:2.0
BEGIN:VEVENT
SUMMARY:Luftballonstand (Straßenfest)
DTSTART:20090912T170000
DTEND:19700101T010000
DESCRIPTION:
LOCATION:
UID:https://www.muehlacker.de/kultur/veranstaltungen/archiv/2009/186_Luftballonstand-Strassenfest.php
URL:https://www.muehlacker.de/kultur/veranstaltungen/archiv/2009/186_Luftballonstand-Strassenfest.php
END:VEVENT
END:VCALENDAR