BEGIN:VCALENDAR
METHOD:PUBLISH
PRODID:-//Weblication CMS
VERSION:2.0
BEGIN:VEVENT
SUMMARY:Lienzinger Herbst Gesang und mehr
DTSTART:20091024T193000
DTEND:19700101T010000
DESCRIPTION:
LOCATION:
UID:https://www.muehlacker.de/kultur/veranstaltungen/archiv/2009/15_Lienzinger-Herbst-Gesang-und-mehr.php
URL:https://www.muehlacker.de/kultur/veranstaltungen/archiv/2009/15_Lienzinger-Herbst-Gesang-und-mehr.php
END:VEVENT
END:VCALENDAR