BEGIN:VCALENDAR
METHOD:PUBLISH
PRODID:-//Weblication CMS
VERSION:2.0
BEGIN:VEVENT
SUMMARY:Ausbildungsdienst(MH)
DTSTART:20090505T220000
DTEND:19700101T010000
DESCRIPTION:Mühlhausen
LOCATION:
UID:https://www.muehlacker.de/kultur/veranstaltungen/archiv/2009/112_Ausbildungsdienst-MH.php
URL:https://www.muehlacker.de/kultur/veranstaltungen/archiv/2009/112_Ausbildungsdienst-MH.php
END:VEVENT
END:VCALENDAR