BEGIN:VCALENDAR
METHOD:PUBLISH
PRODID:-//Weblication CMS
VERSION:2.0
BEGIN:VEVENT
SUMMARY:Tanzlust - Verein zur Förderung traditioneller europ. Tänze e.V.
DTSTART:20150104T160000
DTEND:20150104T160000
DESCRIPTION:Tanzen mit uns ist ... abwechslungsreich, gesellig, man kann was für die Beweglichkeit und Kondition tun. Info-Tel.: (07041)816662
LOCATION:
UID:https://www.muehlacker.de/kultur/veranstaltungen/20150507_termine/3674-Angeleitete-Taenze-aus-Westeuropa.php
URL:https://www.muehlacker.de/kultur/veranstaltungen/20150507_termine/3674-Angeleitete-Taenze-aus-Westeuropa.php
END:VEVENT
END:VCALENDAR